BEGIN:VCALENDAR
VERSION:2.0
PRODID:-//Dixon May Fair - ECPv6.15.20//NONSGML v1.0//EN
CALSCALE:GREGORIAN
METHOD:PUBLISH
X-WR-CALNAME:Dixon May Fair
X-ORIGINAL-URL:https://dixonmayfair.com
X-WR-CALDESC:Events for Dixon May Fair
REFRESH-INTERVAL;VALUE=DURATION:PT1H
X-Robots-Tag:noindex
X-PUBLISHED-TTL:PT1H
BEGIN:VTIMEZONE
TZID:America/Los_Angeles
BEGIN:DAYLIGHT
TZOFFSETFROM:-0800
TZOFFSETTO:-0700
TZNAME:PDT
DTSTART:20250309T100000
END:DAYLIGHT
BEGIN:STANDARD
TZOFFSETFROM:-0700
TZOFFSETTO:-0800
TZNAME:PST
DTSTART:20251102T090000
END:STANDARD
BEGIN:DAYLIGHT
TZOFFSETFROM:-0800
TZOFFSETTO:-0700
TZNAME:PDT
DTSTART:20260308T100000
END:DAYLIGHT
BEGIN:STANDARD
TZOFFSETFROM:-0700
TZOFFSETTO:-0800
TZNAME:PST
DTSTART:20261101T090000
END:STANDARD
BEGIN:DAYLIGHT
TZOFFSETFROM:-0800
TZOFFSETTO:-0700
TZNAME:PDT
DTSTART:20270314T100000
END:DAYLIGHT
BEGIN:STANDARD
TZOFFSETFROM:-0700
TZOFFSETTO:-0800
TZNAME:PST
DTSTART:20271107T090000
END:STANDARD
END:VTIMEZONE
BEGIN:VEVENT
DTSTART;VALUE=DATE:20261009
DTEND;VALUE=DATE:20261012
DTSTAMP:20260421T171239
CREATED:20240928T002749Z
LAST-MODIFIED:20251126T171435Z
UID:4429-1791504000-1791763199@dixonmayfair.com
SUMMARY:Pin-A-Go-Go Pinball Show 2026
DESCRIPTION:https://www.pin-a-go-go.org/ \nPin-A-Go-Go Pinball Show \nOctober 9 – 11\, 2026   (11th – 2 p.m. – 10 p.m.; 12th – 10 a.m. – 10 p.m. & 13th – 10 a.m. – 4 p.m.) \nInformation can be found at www.pin-a-go-go.org \n  \n 
URL:https://dixonmayfair.com/event/pin-a-go-go-pinball-show-2024/
ATTACH;FMTTYPE=image/jpeg:https://dixonmayfair.com/wp-content/uploads/2018/07/pinagogopaggLogo.jpg
END:VEVENT
END:VCALENDAR