BEGIN:VCALENDAR
VERSION:2.0
PRODID:-//Dixon May Fair - ECPv6.15.20//NONSGML v1.0//EN
CALSCALE:GREGORIAN
METHOD:PUBLISH
X-WR-CALNAME:Dixon May Fair
X-ORIGINAL-URL:https://dixonmayfair.com
X-WR-CALDESC:Events for Dixon May Fair
REFRESH-INTERVAL;VALUE=DURATION:PT1H
X-Robots-Tag:noindex
X-PUBLISHED-TTL:PT1H
BEGIN:VTIMEZONE
TZID:America/Los_Angeles
BEGIN:DAYLIGHT
TZOFFSETFROM:-0800
TZOFFSETTO:-0700
TZNAME:PDT
DTSTART:20210314T100000
END:DAYLIGHT
BEGIN:STANDARD
TZOFFSETFROM:-0700
TZOFFSETTO:-0800
TZNAME:PST
DTSTART:20211107T090000
END:STANDARD
BEGIN:DAYLIGHT
TZOFFSETFROM:-0800
TZOFFSETTO:-0700
TZNAME:PDT
DTSTART:20220313T100000
END:DAYLIGHT
BEGIN:STANDARD
TZOFFSETFROM:-0700
TZOFFSETTO:-0800
TZNAME:PST
DTSTART:20221106T090000
END:STANDARD
BEGIN:DAYLIGHT
TZOFFSETFROM:-0800
TZOFFSETTO:-0700
TZNAME:PDT
DTSTART:20230312T100000
END:DAYLIGHT
BEGIN:STANDARD
TZOFFSETFROM:-0700
TZOFFSETTO:-0800
TZNAME:PST
DTSTART:20231105T090000
END:STANDARD
BEGIN:DAYLIGHT
TZOFFSETFROM:-0800
TZOFFSETTO:-0700
TZNAME:PDT
DTSTART:20240310T100000
END:DAYLIGHT
BEGIN:STANDARD
TZOFFSETFROM:-0700
TZOFFSETTO:-0800
TZNAME:PST
DTSTART:20241103T090000
END:STANDARD
BEGIN:DAYLIGHT
TZOFFSETFROM:-0800
TZOFFSETTO:-0700
TZNAME:PDT
DTSTART:20250309T100000
END:DAYLIGHT
BEGIN:STANDARD
TZOFFSETFROM:-0700
TZOFFSETTO:-0800
TZNAME:PST
DTSTART:20251102T090000
END:STANDARD
BEGIN:DAYLIGHT
TZOFFSETFROM:-0800
TZOFFSETTO:-0700
TZNAME:PDT
DTSTART:20260308T100000
END:DAYLIGHT
BEGIN:STANDARD
TZOFFSETFROM:-0700
TZOFFSETTO:-0800
TZNAME:PST
DTSTART:20261101T090000
END:STANDARD
BEGIN:DAYLIGHT
TZOFFSETFROM:-0800
TZOFFSETTO:-0700
TZNAME:PDT
DTSTART:20270314T100000
END:DAYLIGHT
BEGIN:STANDARD
TZOFFSETFROM:-0700
TZOFFSETTO:-0800
TZNAME:PST
DTSTART:20271107T090000
END:STANDARD
END:VTIMEZONE
BEGIN:VTIMEZONE
TZID:UTC
BEGIN:STANDARD
TZOFFSETFROM:+0000
TZOFFSETTO:+0000
TZNAME:UTC
DTSTART:20250101T000000
END:STANDARD
END:VTIMEZONE
BEGIN:VEVENT
DTSTART;TZID=America/Los_Angeles:20260619T070000
DTEND;TZID=America/Los_Angeles:20260620T170000
DTSTAMP:20260421T185819
CREATED:20170519T034953Z
LAST-MODIFIED:20251126T171801Z
UID:878-1781852400-1781974800@dixonmayfair.com
SUMMARY:Fort Sutter Antique Motorcycle Association
DESCRIPTION:  \nFriday\, June 19th –  7 a.m. – 5 p.m. \nSaturday\, June 20th – 7 a.m – 5 p.m. \nhttps://www.fortsutteramca.org/upcoming-events/
URL:https://dixonmayfair.com/event/fort-sutter-antique-motorcycle-association-3/
ATTACH;FMTTYPE=image/png:https://dixonmayfair.com/wp-content/uploads/2018/05/Fort-Sutter-Chapter-National-Road-Run-2017.png
END:VEVENT
BEGIN:VEVENT
DTSTART;TZID=America/Los_Angeles:20260517T070000
DTEND;TZID=America/Los_Angeles:20260517T150000
DTSTAMP:20260421T185819
CREATED:20180514T225620Z
LAST-MODIFIED:20260130T220057Z
UID:1215-1779001200-1779030000@dixonmayfair.com
SUMMARY:All British Motoring Show and Swap Meet
DESCRIPTION:
URL:https://dixonmayfair.com/event/all-british-motoring-show-and-swap-meet-2/
ATTACH;FMTTYPE=image/jpeg:https://dixonmayfair.com/wp-content/uploads/2018/05/UBSCC.jpg
END:VEVENT
BEGIN:VEVENT
DTSTART;VALUE=DATE:20260507
DTEND;VALUE=DATE:20260511
DTSTAMP:20260421T185819
CREATED:20190412T024808Z
LAST-MODIFIED:20251126T170035Z
UID:1496-1778112000-1778457599@dixonmayfair.com
SUMMARY:Dixon May Fair
DESCRIPTION:  \nThursday\, May 7th – 4 p.m. to 10 p.m. \nFriday\, May 8th – Noon to 11 p.m. \nSaturday\, May 9th – 11 a.m. to 11 p.m. \nSunday\, May 10th – Noon to 10 p.m. \nTicket Sales cease 1 hour before closing with no entrance at that time.
URL:https://dixonmayfair.com/event/dixon-may-fair-3/
ATTACH;FMTTYPE=image/jpeg:https://dixonmayfair.com/wp-content/uploads/2019/04/May_Fair_Logo_2026-Med.jpg
END:VEVENT
BEGIN:VEVENT
DTSTART;VALUE=DATE:20260328
DTEND;VALUE=DATE:20260330
DTSTAMP:20260421T185819
CREATED:20180719T035419Z
LAST-MODIFIED:20251126T172036Z
UID:1263-1774656000-1774828799@dixonmayfair.com
SUMMARY:Haute Dawgs Agility Group
DESCRIPTION:Haute Dawgs Agility Group \nSouth Lawn on Fairgrounds \nSaturday\, March 28\, 2025 \nSunday\, March 29\, 2025 \n(Hours vary consult their website) \nwww.hautedawgs.org
URL:https://dixonmayfair.com/event/haute-dawgs-agility-group-2/
ATTACH;FMTTYPE=image/jpeg:https://dixonmayfair.com/wp-content/uploads/2018/07/HauteDawgsWebsiteLogo.jpg
END:VEVENT
BEGIN:VEVENT
DTSTART;TZID=America/Los_Angeles:20260321T100000
DTEND;TZID=America/Los_Angeles:20260322T160000
DTSTAMP:20260421T185819
CREATED:20240823T160019Z
LAST-MODIFIED:20251204T210456Z
UID:1818-1774087200-1774195200@dixonmayfair.com
SUMMARY:Solano Home and Garden Show
DESCRIPTION:  \nSaturday\, March 21st – Sunday\, March 22nd\, 2026 \n10 a.m. to 4 p.m. Daily \nhttps://www.solanohomeshow.com/
URL:https://dixonmayfair.com/event/solano-home-and-garden-show/
ATTACH;FMTTYPE=image/png:https://dixonmayfair.com/wp-content/uploads/2024/08/Dixon-Home-Show-front-image-JJQg7J.tmp_.png
END:VEVENT
BEGIN:VEVENT
DTSTART;TZID=America/Los_Angeles:20260307T080000
DTEND;TZID=America/Los_Angeles:20260308T170000
DTSTAMP:20260421T185819
CREATED:20251126T172310Z
LAST-MODIFIED:20251126T172506Z
UID:5103-1772870400-1772989200@dixonmayfair.com
SUMMARY:Crow Canyon Cat Show
DESCRIPTION:Crow Canyon Cat Show\nMadden Hall – Saturday\, March 7th & Sunday\, March 8th\, 2026 \nwww.CFA-Northwest.org
URL:https://dixonmayfair.com/event/crow-canyon-cat-show/
END:VEVENT
BEGIN:VEVENT
DTSTART;TZID=America/Los_Angeles:20260228T180000
DTEND;TZID=America/Los_Angeles:20260228T233000
DTSTAMP:20260421T185819
CREATED:20181228T073957Z
LAST-MODIFIED:20251126T170629Z
UID:1362-1772301600-1772321400@dixonmayfair.com
SUMMARY:Dixon Rotary - Crab Feed
DESCRIPTION:Dixon Rotary Club  \nCrab Feed \nMadden Hall \nSaturday\, February 28\, 2026 \n6 p.m. to 11:30 p.m. \nhttps://www.dixonrotary.org/ \n 
URL:https://dixonmayfair.com/event/dixon-rotary-crab-feed-2/
ATTACH;FMTTYPE=image/png:https://dixonmayfair.com/wp-content/uploads/2018/12/rotary_sign_default.png
END:VEVENT
BEGIN:VEVENT
DTSTART;VALUE=DATE:20260221
DTEND;VALUE=DATE:20260223
DTSTAMP:20260421T185819
CREATED:20251006T161125Z
LAST-MODIFIED:20260116T214144Z
UID:5004-1771632000-1771804799@dixonmayfair.com
SUMMARY:Mad Alpacalypse Table Top Gaming Event
DESCRIPTION:Mad Alpacalypse\n\n\nTable Top Gaming – Saturday\, February 21\, 2026 & Sunday\, February 22\, 2026 \n8:30 a.m. to 9 p.m. Daily \nInformation can be found at Mad Alpaca website   
URL:https://dixonmayfair.com/event/mad-alpacalypse-table-top-gaming-event/
END:VEVENT
BEGIN:VEVENT
DTSTART;TZID=America/Los_Angeles:20260207T180000
DTEND;TZID=America/Los_Angeles:20260207T220000
DTSTAMP:20260421T185819
CREATED:20181227T083443Z
LAST-MODIFIED:20251126T170702Z
UID:1345-1770487200-1770501600@dixonmayfair.com
SUMMARY:Dixon Game Conservation Club - Crab Feed
DESCRIPTION:Dixon Game Conservation Club  \nCrab Feed \nSaturday\, February 7\, 2026 \n6pm to 10pm
URL:https://dixonmayfair.com/event/dixon-game-conservation-club-crab-feed-2/
END:VEVENT
BEGIN:VEVENT
DTSTART;TZID=America/Los_Angeles:20260110T090000
DTEND;TZID=America/Los_Angeles:20260110T170000
DTSTAMP:20260421T185819
CREATED:20241204T181220Z
LAST-MODIFIED:20251126T170757Z
UID:4539-1768035600-1768064400@dixonmayfair.com
SUMMARY:Cat Show
DESCRIPTION:The Cat Fanciers’ Association\nNorthwest Region Cat Show\nMadden Hall – Saturday\, January 10th\, 2026 \nwww.CFA-Northwest.org
URL:https://dixonmayfair.com/event/4539/
END:VEVENT
BEGIN:VEVENT
DTSTART;TZID=America/Los_Angeles:20250315T170000
DTEND;TZID=America/Los_Angeles:20250315T220000
DTSTAMP:20260421T185819
CREATED:20221229T224037Z
LAST-MODIFIED:20241204T185320Z
UID:3361-1742058000-1742076000@dixonmayfair.com
SUMMARY:Dixon Montessori Charter School - Dragonfly Dinner
DESCRIPTION:
URL:https://dixonmayfair.com/event/dixon-montessori-charter-school-dragonfly-dinner-2/
ATTACH;FMTTYPE=image/jpeg:https://dixonmayfair.com/wp-content/uploads/2022/12/Charter-School-logo.jpg
END:VEVENT
BEGIN:VEVENT
DTSTART;TZID=America/Los_Angeles:20240720T080000
DTEND;TZID=America/Los_Angeles:20240721T170000
DTSTAMP:20260421T185819
CREATED:20240214T000614Z
LAST-MODIFIED:20240214T000614Z
UID:4231-1721462400-1721581200@dixonmayfair.com
SUMMARY:International All Breed Canine Association
DESCRIPTION:All Breed Dog Show \nSaturday\, July 20th – Sunday\, July 21\, 2024 \n8 a.m. to 5 p.m. Daily \nhttps://www.iabca.com/index.html \nSee website for complete details and times
URL:https://dixonmayfair.com/event/international-all-breed-canine-association-2/
ATTACH;FMTTYPE=image/png:https://dixonmayfair.com/wp-content/uploads/2024/02/IABCAcolor1tiny.png
END:VEVENT
BEGIN:VEVENT
DTSTART;TZID=America/Los_Angeles:20240622T100000
DTEND;TZID=America/Los_Angeles:20240622T160000
DTSTAMP:20260421T185819
CREATED:20240214T002623Z
LAST-MODIFIED:20240214T002623Z
UID:4239-1719050400-1719072000@dixonmayfair.com
SUMMARY:Gifts B Cause Arts & Crafts Show By The Solano County Home & Garden Show
DESCRIPTION:Saturday\, June 22\, 2024 \n10 a.m. to 4 p.m. \nhttps://www.solanohomeshow.com/ \n 
URL:https://dixonmayfair.com/event/gifts-b-cause-arts-crafts-show-by-the-solano-county-home-garden-show-2/
ATTACH;FMTTYPE=image/webp:https://dixonmayfair.com/wp-content/uploads/2023/03/Gifts-B-Cause.webp
END:VEVENT
BEGIN:VEVENT
DTSTART;VALUE=DATE:20240601
DTEND;VALUE=DATE:20240603
DTSTAMP:20260421T185819
CREATED:20210324T003523Z
LAST-MODIFIED:20210324T003523Z
UID:1996-1717200000-1717372799@dixonmayfair.com
SUMMARY:Dixon Gun Show
DESCRIPTION:Saturday\, June 1st  – 9 a.m. to 5 p.m. & Sunday\, June 2nd – 9 a.m. to 4 p.m. \nFor complete details visit:  www.dixongunshow.com \nCOVID Procedures  (Occupancy may be monitored therefore you may experience a wait time to enter) \n\nDo not attend if you feel sick or have been exposed to someone who has been sick\nWear a mask (optional)\nMaintain 6 foot distance from others\nFrequently wash your hands with soap and water for at least 20 seconds or use hand sanitizer with at least 60% alcohol.\nCover your mouth and nose when coughing or sneezing\, or cough or sneeze into the crook of your arm at your elbow or sleeve.
URL:https://dixonmayfair.com/event/dixon-gun-show-5-2/
END:VEVENT
BEGIN:VEVENT
DTSTART;VALUE=DATE:20240323
DTEND;VALUE=DATE:20240325
DTSTAMP:20260421T185819
CREATED:20181227T083727Z
LAST-MODIFIED:20181227T083727Z
UID:1349-1711152000-1711324799@dixonmayfair.com
SUMMARY:Solano County Home & Garden Show
DESCRIPTION:Solano County Home & Garden Show \nSaturday\, March 23\, 2024 \nSunday\, March 24\, 2024 \n(Hours Saturday 10 a.m. to 4 pm. & Sunday 10 a.m. to 4 p.m.) \nhttps://www.solanohomeshow.com/
URL:https://dixonmayfair.com/event/solano-county-home-garden-show-2-2/
ATTACH;FMTTYPE=image/png:https://dixonmayfair.com/wp-content/uploads/2016/11/Dixon-Home-Show-front-image.png
END:VEVENT
BEGIN:VEVENT
DTSTART;TZID=America/Los_Angeles:20240217T180000
DTEND;TZID=America/Los_Angeles:20240217T233000
DTSTAMP:20260421T185819
CREATED:20230816T175258Z
LAST-MODIFIED:20230816T175258Z
UID:3998-1708192800-1708212600@dixonmayfair.com
SUMMARY:The Uninvited Promotions
DESCRIPTION:Saturday\, February 17\, 2024 \nThe Uninvited Presents \nInformation:  707-640-9326 \nTickets:  Eventbrite
URL:https://dixonmayfair.com/event/the-uninvited-promotions-festival/
ATTACH;FMTTYPE=image/jpeg:https://dixonmayfair.com/wp-content/uploads/2023/08/https___cdn.evbuc_.com_images_677225779_275297895442_1_original.jpg
END:VEVENT
BEGIN:VEVENT
DTSTART;TZID=America/Los_Angeles:20240214T000000
DTEND;TZID=America/Los_Angeles:20240214T000000
DTSTAMP:20260421T185819
CREATED:20240823T160119Z
LAST-MODIFIED:20240823T160119Z
UID:1820-1707868800-1707868800@dixonmayfair.com
SUMMARY:Gifts B Cause Arts & Crafts Show By The Solano County Home & Garden Show
DESCRIPTION:Saturday\, June 22\, 2024 \n10 a.m. to 4 p.m. \nhttps://www.solanohomeshow.com/ \n 
URL:https://dixonmayfair.com/event/gifts-b-cause-arts-crafts-show-by-the-solano-county-home-garden-show/
ATTACH;FMTTYPE=image/webp:https://dixonmayfair.com/wp-content/uploads/2024/08/Gifts-B-Cause-QNHTHV.tmp_.webp
END:VEVENT
BEGIN:VEVENT
DTSTART;TZID=America/Los_Angeles:20240214T000000
DTEND;TZID=America/Los_Angeles:20240214T000000
DTSTAMP:20260421T185819
CREATED:20240823T160018Z
LAST-MODIFIED:20240823T160018Z
UID:1817-1707868800-1707868800@dixonmayfair.com
SUMMARY:International All Breed Canine Association
DESCRIPTION:All Breed Dog Show \nSaturday\, July 20th – Sunday\, July 21\, 2024 \n8 a.m. to 5 p.m. Daily \nhttps://www.iabca.com/index.html \nSee website for complete details and times
URL:https://dixonmayfair.com/event/international-all-breed-canine-association/
ATTACH;FMTTYPE=image/png:https://dixonmayfair.com/wp-content/uploads/2024/08/IABCAcolor1tiny-IoYMJK.tmp_.png
END:VEVENT
BEGIN:VEVENT
DTSTART;TZID=America/Los_Angeles:20240127T160000
DTEND;TZID=America/Los_Angeles:20240127T233000
DTSTAMP:20260421T185819
CREATED:20221229T220358Z
LAST-MODIFIED:20221229T220358Z
UID:3348-1706371200-1706398200@dixonmayfair.com
SUMMARY:West Coast Bombers Crab Feed
DESCRIPTION:https://www.facebook.com/WCBombers/ \nhttps://westcoastbombersbaseball.org/
URL:https://dixonmayfair.com/event/west-coast-bombers-crab-feed-3/
ATTACH;FMTTYPE=image/jpeg:https://dixonmayfair.com/wp-content/uploads/2022/12/West-Coast-Bombers.jpg
END:VEVENT
BEGIN:VEVENT
DTSTART;TZID=America/Los_Angeles:20231216T090000
DTEND;TZID=America/Los_Angeles:20231216T160000
DTSTAMP:20260421T185819
CREATED:20220111T032924Z
LAST-MODIFIED:20220111T032924Z
UID:2230-1702717200-1702742400@dixonmayfair.com
SUMMARY:Poppy State Cat Club
DESCRIPTION:Poppy State Cat Club – Cat Show \nDecember 16\, 2023 \nMadden Hall \nHours 9 a.m. to 4 p.m. \n  \nCOVID Procedures \n\nDo not attend if you feel sick or have been exposed to someone who has been sick.\nWear a mask. Masks are required indoors regardless of vaccination status.\nMaintain 6 foot distance from others\nFrequently wash your hands with soap and water for at least 20 seconds or use hand sanitizer with at least 60% alcohol.\nCover your mouth and nose when coughing or sneezing\, or cough or sneeze into the crook of your arm at your elbow or sleeve.
URL:https://dixonmayfair.com/event/poppy-state-cat-club-2/
ATTACH;FMTTYPE=image/png:https://dixonmayfair.com/wp-content/uploads/2022/01/Logo2021-p6vd969hcez5750u6tz9sfkwgylb0aykekizi7bvei.png
END:VEVENT
BEGIN:VEVENT
DTSTART;VALUE=DATE:20230923
DTEND;VALUE=DATE:20230925
DTSTAMP:20260421T185819
CREATED:20190720T034736Z
LAST-MODIFIED:20190720T034736Z
UID:1549-1695427200-1695599999@dixonmayfair.com
SUMMARY:Donner Trail Kennel Club
DESCRIPTION:Donner Trail Kennel Club \nAKC All Breeds Dog Show\nSaturday\, September 23rd & Sunday\, September 24th\n8 a.m. to 5 p.m. \n 
URL:https://dixonmayfair.com/event/donner-trail-kennel-club-2/
END:VEVENT
BEGIN:VEVENT
DTSTART;TZID=America/Los_Angeles:20230816T000000
DTEND;TZID=America/Los_Angeles:20230816T000000
DTSTAMP:20260421T185819
CREATED:20240823T160016Z
LAST-MODIFIED:20240823T160016Z
UID:1814-1692144000-1692144000@dixonmayfair.com
SUMMARY:The Uninvited Promotions
DESCRIPTION:Saturday\, February 17\, 2024 \nThe Uninvited Presents \nInformation:  707-640-9326 \nTickets:  Eventbrite
URL:https://dixonmayfair.com/event/the-uninvited-promotions/
ATTACH;FMTTYPE=image/jpeg:https://dixonmayfair.com/wp-content/uploads/2024/08/https___cdn.evbuc_.com_images_677225779_275297895442_1_original-MvSkGP.tmp_.jpg
END:VEVENT
BEGIN:VEVENT
DTSTART;TZID=America/Los_Angeles:20230726T000000
DTEND;TZID=America/Los_Angeles:20230726T000000
DTSTAMP:20260421T185819
CREATED:20240823T160015Z
LAST-MODIFIED:20240823T160015Z
UID:1812-1690329600-1690329600@dixonmayfair.com
SUMMARY:The Uninvited Presents Country Night
DESCRIPTION:
URL:https://dixonmayfair.com/event/the-uninvited-presents-country-night/
ATTACH;FMTTYPE=image/jpeg:https://dixonmayfair.com/wp-content/uploads/2024/08/Uninvited-Country-night-UTZOFS.tmp_.jpg
END:VEVENT
BEGIN:VEVENT
DTSTART;TZID=America/Los_Angeles:20230708T110000
DTEND;TZID=America/Los_Angeles:20230708T170000
DTSTAMP:20260421T185819
CREATED:20230706T211538Z
LAST-MODIFIED:20230706T211538Z
UID:3948-1688814000-1688835600@dixonmayfair.com
SUMMARY:El Paletero Shop Presents Pop-Up Event
DESCRIPTION:Dixon Pop-Up Event \n“This event goes beyond just shopping—it’s about strengthening our community and creating something truly special. By coming together to support our local businesses\, we are fostering collaboration and growth in unprecedented ways.” from Cristian Torres facebook page \nTickets\n$5.00 Admission \nSaturday\, July 8\, 2023 \n11 a.m. – 5 p.m. \n 
URL:https://dixonmayfair.com/event/el-paletero-shop-presents-pop-up-event-2/
END:VEVENT
BEGIN:VEVENT
DTSTART;TZID=America/Los_Angeles:20230624T100000
DTEND;TZID=America/Los_Angeles:20230624T170000
DTSTAMP:20260421T185819
CREATED:20230329T185318Z
LAST-MODIFIED:20230329T185318Z
UID:3735-1687600800-1687626000@dixonmayfair.com
SUMMARY:
DESCRIPTION:Gifts B Cause Arts & Crafts Show\nSaturday\, June 24th\, 2023 – 10 a.m. to 4 p.m. \nDixon Fairgrounds \nhttps://www.solanohomeshow.com/giftsbcausedec
URL:https://dixonmayfair.com/event/3735/
ATTACH;FMTTYPE=image/webp:https://dixonmayfair.com/wp-content/uploads/2023/03/Gifts-B-Cause.webp
END:VEVENT
BEGIN:VEVENT
DTSTART;VALUE=DATE:20230401
DTEND;VALUE=DATE:20230403
DTSTAMP:20260421T185819
CREATED:20221229T225752Z
LAST-MODIFIED:20221229T225752Z
UID:3367-1680307200-1680479999@dixonmayfair.com
SUMMARY:Irish Setter Club of the Pacific\, S.F.
DESCRIPTION:Irish Setter Club of the Pacific\, S.F. \nIrish Setter Specialty Show \nSaturday\, April 1st\, 2023 \nSunday\, April 2\, 2023 \nTimes 8 a.m. – 5 p.m.
URL:https://dixonmayfair.com/event/irish-setter-club-of-the-pacific-s-f-2/
ATTACH;FMTTYPE=image/jpeg:https://dixonmayfair.com/wp-content/uploads/2022/12/Irish-Setter-Logo.jpg
END:VEVENT
BEGIN:VEVENT
DTSTART;TZID=America/Los_Angeles:20221229T000000
DTEND;TZID=America/Los_Angeles:20221229T000000
DTSTAMP:20260421T185819
CREATED:20240823T155848Z
LAST-MODIFIED:20240823T155848Z
UID:1809-1672272000-1672272000@dixonmayfair.com
SUMMARY:Irish Setter Club of the Pacific\, S.F.
DESCRIPTION:Irish Setter Club of the Pacific\, S.F. \nIrish Setter Specialty Show \nSaturday\, April 1st\, 2023 \nSunday\, April 2\, 2023 \nTimes 8 a.m. – 5 p.m.
URL:https://dixonmayfair.com/event/irish-setter-club-of-the-pacific-s-f/
ATTACH;FMTTYPE=image/jpeg:https://dixonmayfair.com/wp-content/uploads/2024/08/Irish-Setter-Logo-w6I5rO.tmp_.jpg
END:VEVENT
BEGIN:VEVENT
DTSTART;TZID=America/Los_Angeles:20221229T000000
DTEND;TZID=America/Los_Angeles:20221229T000000
DTSTAMP:20260421T185819
CREATED:20240823T155847Z
LAST-MODIFIED:20240823T155847Z
UID:1806-1672272000-1672272000@dixonmayfair.com
SUMMARY:Dixon Montessori Charter School - Dragonfly Dinner
DESCRIPTION:
URL:https://dixonmayfair.com/event/dixon-montessori-charter-school-dragonfly-dinner/
ATTACH;FMTTYPE=image/jpeg:https://dixonmayfair.com/wp-content/uploads/2024/08/Charter-School-logo-PfdtuV.tmp_.jpg
END:VEVENT
BEGIN:VEVENT
DTSTART;TZID=America/Los_Angeles:20221229T000000
DTEND;TZID=America/Los_Angeles:20221229T000000
DTSTAMP:20260421T185819
CREATED:20240823T155846Z
LAST-MODIFIED:20240823T155846Z
UID:1805-1672272000-1672272000@dixonmayfair.com
SUMMARY:West Coast Bombers Crab Feed
DESCRIPTION:https://www.facebook.com/WCBombers/ \nhttps://westcoastbombersbaseball.org/
URL:https://dixonmayfair.com/event/west-coast-bombers-crab-feed-2/
ATTACH;FMTTYPE=image/jpeg:https://dixonmayfair.com/wp-content/uploads/2024/08/West-Coast-Bombers-84I0U3.tmp_.jpg
END:VEVENT
BEGIN:VEVENT
DTSTART;TZID=America/Los_Angeles:20220822T000000
DTEND;TZID=America/Los_Angeles:20220822T000000
DTSTAMP:20260421T185819
CREATED:20240823T155834Z
LAST-MODIFIED:20240823T155834Z
UID:1802-1661126400-1661126400@dixonmayfair.com
SUMMARY:Bobtail Apparel Truck Show
DESCRIPTION:  \nTruck Show\nhttps://bobtailapparel.com/pages/truck-show \nFriday\, October 18th – 4 p.m. to 9 p.m. \nSaturday\, October 20th – 10 a.m. to 9 p.m. \nSchedule Subject to change without notification
URL:https://dixonmayfair.com/event/bobtail-apparel-truck-show/
ATTACH;FMTTYPE=image/jpeg:https://dixonmayfair.com/wp-content/uploads/2024/08/IMG_4043-scaled-rbLaM1.tmp_.jpg
END:VEVENT
END:VCALENDAR