BEGIN:VCALENDAR
VERSION:2.0
PRODID:-//Dixon May Fair - ECPv6.15.20//NONSGML v1.0//EN
CALSCALE:GREGORIAN
METHOD:PUBLISH
X-WR-CALNAME:Dixon May Fair
X-ORIGINAL-URL:https://dixonmayfair.com
X-WR-CALDESC:Events for Dixon May Fair
REFRESH-INTERVAL;VALUE=DURATION:PT1H
X-Robots-Tag:noindex
X-PUBLISHED-TTL:PT1H
BEGIN:VTIMEZONE
TZID:America/Los_Angeles
BEGIN:DAYLIGHT
TZOFFSETFROM:-0800
TZOFFSETTO:-0700
TZNAME:PDT
DTSTART:20250309T100000
END:DAYLIGHT
BEGIN:STANDARD
TZOFFSETFROM:-0700
TZOFFSETTO:-0800
TZNAME:PST
DTSTART:20251102T090000
END:STANDARD
BEGIN:DAYLIGHT
TZOFFSETFROM:-0800
TZOFFSETTO:-0700
TZNAME:PDT
DTSTART:20260308T100000
END:DAYLIGHT
BEGIN:STANDARD
TZOFFSETFROM:-0700
TZOFFSETTO:-0800
TZNAME:PST
DTSTART:20261101T090000
END:STANDARD
BEGIN:DAYLIGHT
TZOFFSETFROM:-0800
TZOFFSETTO:-0700
TZNAME:PDT
DTSTART:20270314T100000
END:DAYLIGHT
BEGIN:STANDARD
TZOFFSETFROM:-0700
TZOFFSETTO:-0800
TZNAME:PST
DTSTART:20271107T090000
END:STANDARD
END:VTIMEZONE
BEGIN:VEVENT
DTSTART;TZID=America/Los_Angeles:20261024T080000
DTEND;TZID=America/Los_Angeles:20261025T170000
DTSTAMP:20260421T171859
CREATED:20180720T060533Z
LAST-MODIFIED:20251126T171223Z
UID:1269-1792828800-1792947600@dixonmayfair.com
SUMMARY:Sacramento Valley Dog Fanciers
DESCRIPTION:Sacramento Valley Dog Fanciers \nAKC All Breeds Dog Show\nOctober 24\, 2026\nOctober 25\, 2026\n8:00am to 5:00pm \nwww.sacvalleydfa.com
URL:https://dixonmayfair.com/event/sacramento-valley-dog-fanciers-2/
ATTACH;FMTTYPE=image/gif:https://dixonmayfair.com/wp-content/uploads/2018/07/Sacramento-Valley-Dog-Show.gif
END:VEVENT
BEGIN:VEVENT
DTSTART;TZID=America/Los_Angeles:20261114T173000
DTEND;TZID=America/Los_Angeles:20261114T220000
DTSTAMP:20260421T171859
CREATED:20180720T062106Z
LAST-MODIFIED:20251126T171129Z
UID:1275-1794677400-1794693600@dixonmayfair.com
SUMMARY:Dixon High School Hall of Fame Dinner
DESCRIPTION:Dixon High School Hall of Fame Dinner\nMadden Hall\nSaturday\, November 14\, 2026\nwww.dixonhighhalloffame.org
URL:https://dixonmayfair.com/event/dhs-hall-fame-dinner/
ATTACH;FMTTYPE=image/jpeg:https://dixonmayfair.com/wp-content/uploads/2018/07/Hall-of-Fame-logo.jpg
END:VEVENT
END:VCALENDAR