BEGIN:VCALENDAR
VERSION:2.0
PRODID:-//Dixon May Fair - ECPv6.15.20//NONSGML v1.0//EN
CALSCALE:GREGORIAN
METHOD:PUBLISH
X-WR-CALNAME:Dixon May Fair
X-ORIGINAL-URL:https://dixonmayfair.com
X-WR-CALDESC:Events for Dixon May Fair
REFRESH-INTERVAL;VALUE=DURATION:PT1H
X-Robots-Tag:noindex
X-PUBLISHED-TTL:PT1H
BEGIN:VTIMEZONE
TZID:America/Los_Angeles
BEGIN:DAYLIGHT
TZOFFSETFROM:-0800
TZOFFSETTO:-0700
TZNAME:PDT
DTSTART:20170312T100000
END:DAYLIGHT
BEGIN:STANDARD
TZOFFSETFROM:-0700
TZOFFSETTO:-0800
TZNAME:PST
DTSTART:20171105T090000
END:STANDARD
BEGIN:DAYLIGHT
TZOFFSETFROM:-0800
TZOFFSETTO:-0700
TZNAME:PDT
DTSTART:20180311T100000
END:DAYLIGHT
BEGIN:STANDARD
TZOFFSETFROM:-0700
TZOFFSETTO:-0800
TZNAME:PST
DTSTART:20181104T090000
END:STANDARD
BEGIN:DAYLIGHT
TZOFFSETFROM:-0800
TZOFFSETTO:-0700
TZNAME:PDT
DTSTART:20190310T100000
END:DAYLIGHT
BEGIN:STANDARD
TZOFFSETFROM:-0700
TZOFFSETTO:-0800
TZNAME:PST
DTSTART:20191103T090000
END:STANDARD
BEGIN:DAYLIGHT
TZOFFSETFROM:-0800
TZOFFSETTO:-0700
TZNAME:PDT
DTSTART:20200308T100000
END:DAYLIGHT
BEGIN:STANDARD
TZOFFSETFROM:-0700
TZOFFSETTO:-0800
TZNAME:PST
DTSTART:20201101T090000
END:STANDARD
BEGIN:DAYLIGHT
TZOFFSETFROM:-0800
TZOFFSETTO:-0700
TZNAME:PDT
DTSTART:20210314T100000
END:DAYLIGHT
BEGIN:STANDARD
TZOFFSETFROM:-0700
TZOFFSETTO:-0800
TZNAME:PST
DTSTART:20211107T090000
END:STANDARD
BEGIN:DAYLIGHT
TZOFFSETFROM:-0800
TZOFFSETTO:-0700
TZNAME:PDT
DTSTART:20220313T100000
END:DAYLIGHT
BEGIN:STANDARD
TZOFFSETFROM:-0700
TZOFFSETTO:-0800
TZNAME:PST
DTSTART:20221106T090000
END:STANDARD
BEGIN:DAYLIGHT
TZOFFSETFROM:-0800
TZOFFSETTO:-0700
TZNAME:PDT
DTSTART:20230312T100000
END:DAYLIGHT
BEGIN:STANDARD
TZOFFSETFROM:-0700
TZOFFSETTO:-0800
TZNAME:PST
DTSTART:20231105T090000
END:STANDARD
BEGIN:DAYLIGHT
TZOFFSETFROM:-0800
TZOFFSETTO:-0700
TZNAME:PDT
DTSTART:20240310T100000
END:DAYLIGHT
BEGIN:STANDARD
TZOFFSETFROM:-0700
TZOFFSETTO:-0800
TZNAME:PST
DTSTART:20241103T090000
END:STANDARD
END:VTIMEZONE
BEGIN:VTIMEZONE
TZID:UTC
BEGIN:STANDARD
TZOFFSETFROM:+0000
TZOFFSETTO:+0000
TZNAME:UTC
DTSTART:20180101T000000
END:STANDARD
END:VTIMEZONE
BEGIN:VEVENT
DTSTART;TZID=America/Los_Angeles:20230708T110000
DTEND;TZID=America/Los_Angeles:20230708T170000
DTSTAMP:20260421T191230
CREATED:20230706T211538Z
LAST-MODIFIED:20230706T211538Z
UID:3948-1688814000-1688835600@dixonmayfair.com
SUMMARY:El Paletero Shop Presents Pop-Up Event
DESCRIPTION:Dixon Pop-Up Event \n“This event goes beyond just shopping—it’s about strengthening our community and creating something truly special. By coming together to support our local businesses\, we are fostering collaboration and growth in unprecedented ways.” from Cristian Torres facebook page \nTickets\n$5.00 Admission \nSaturday\, July 8\, 2023 \n11 a.m. – 5 p.m. \n 
URL:https://dixonmayfair.com/event/el-paletero-shop-presents-pop-up-event-2/
END:VEVENT
BEGIN:VEVENT
DTSTART;TZID=America/Los_Angeles:20230624T100000
DTEND;TZID=America/Los_Angeles:20230624T170000
DTSTAMP:20260421T191230
CREATED:20230329T185318Z
LAST-MODIFIED:20230329T185318Z
UID:3735-1687600800-1687626000@dixonmayfair.com
SUMMARY:
DESCRIPTION:Gifts B Cause Arts & Crafts Show\nSaturday\, June 24th\, 2023 – 10 a.m. to 4 p.m. \nDixon Fairgrounds \nhttps://www.solanohomeshow.com/giftsbcausedec
URL:https://dixonmayfair.com/event/3735/
ATTACH;FMTTYPE=image/webp:https://dixonmayfair.com/wp-content/uploads/2023/03/Gifts-B-Cause.webp
END:VEVENT
BEGIN:VEVENT
DTSTART;VALUE=DATE:20230401
DTEND;VALUE=DATE:20230403
DTSTAMP:20260421T191230
CREATED:20221229T225752Z
LAST-MODIFIED:20221229T225752Z
UID:3367-1680307200-1680479999@dixonmayfair.com
SUMMARY:Irish Setter Club of the Pacific\, S.F.
DESCRIPTION:Irish Setter Club of the Pacific\, S.F. \nIrish Setter Specialty Show \nSaturday\, April 1st\, 2023 \nSunday\, April 2\, 2023 \nTimes 8 a.m. – 5 p.m.
URL:https://dixonmayfair.com/event/irish-setter-club-of-the-pacific-s-f-2/
ATTACH;FMTTYPE=image/jpeg:https://dixonmayfair.com/wp-content/uploads/2022/12/Irish-Setter-Logo.jpg
END:VEVENT
BEGIN:VEVENT
DTSTART;TZID=America/Los_Angeles:20221229T000000
DTEND;TZID=America/Los_Angeles:20221229T000000
DTSTAMP:20260421T191230
CREATED:20240823T155848Z
LAST-MODIFIED:20240823T155848Z
UID:1809-1672272000-1672272000@dixonmayfair.com
SUMMARY:Irish Setter Club of the Pacific\, S.F.
DESCRIPTION:Irish Setter Club of the Pacific\, S.F. \nIrish Setter Specialty Show \nSaturday\, April 1st\, 2023 \nSunday\, April 2\, 2023 \nTimes 8 a.m. – 5 p.m.
URL:https://dixonmayfair.com/event/irish-setter-club-of-the-pacific-s-f/
ATTACH;FMTTYPE=image/jpeg:https://dixonmayfair.com/wp-content/uploads/2024/08/Irish-Setter-Logo-w6I5rO.tmp_.jpg
END:VEVENT
BEGIN:VEVENT
DTSTART;TZID=America/Los_Angeles:20221229T000000
DTEND;TZID=America/Los_Angeles:20221229T000000
DTSTAMP:20260421T191230
CREATED:20240823T155847Z
LAST-MODIFIED:20240823T155847Z
UID:1806-1672272000-1672272000@dixonmayfair.com
SUMMARY:Dixon Montessori Charter School - Dragonfly Dinner
DESCRIPTION:
URL:https://dixonmayfair.com/event/dixon-montessori-charter-school-dragonfly-dinner/
ATTACH;FMTTYPE=image/jpeg:https://dixonmayfair.com/wp-content/uploads/2024/08/Charter-School-logo-PfdtuV.tmp_.jpg
END:VEVENT
BEGIN:VEVENT
DTSTART;TZID=America/Los_Angeles:20221229T000000
DTEND;TZID=America/Los_Angeles:20221229T000000
DTSTAMP:20260421T191230
CREATED:20240823T155846Z
LAST-MODIFIED:20240823T155846Z
UID:1805-1672272000-1672272000@dixonmayfair.com
SUMMARY:West Coast Bombers Crab Feed
DESCRIPTION:https://www.facebook.com/WCBombers/ \nhttps://westcoastbombersbaseball.org/
URL:https://dixonmayfair.com/event/west-coast-bombers-crab-feed-2/
ATTACH;FMTTYPE=image/jpeg:https://dixonmayfair.com/wp-content/uploads/2024/08/West-Coast-Bombers-84I0U3.tmp_.jpg
END:VEVENT
BEGIN:VEVENT
DTSTART;TZID=America/Los_Angeles:20220822T000000
DTEND;TZID=America/Los_Angeles:20220822T000000
DTSTAMP:20260421T191230
CREATED:20240823T155834Z
LAST-MODIFIED:20240823T155834Z
UID:1802-1661126400-1661126400@dixonmayfair.com
SUMMARY:Bobtail Apparel Truck Show
DESCRIPTION:  \nTruck Show\nhttps://bobtailapparel.com/pages/truck-show \nFriday\, October 18th – 4 p.m. to 9 p.m. \nSaturday\, October 20th – 10 a.m. to 9 p.m. \nSchedule Subject to change without notification
URL:https://dixonmayfair.com/event/bobtail-apparel-truck-show/
ATTACH;FMTTYPE=image/jpeg:https://dixonmayfair.com/wp-content/uploads/2024/08/IMG_4043-scaled-rbLaM1.tmp_.jpg
END:VEVENT
BEGIN:VEVENT
DTSTART;VALUE=DATE:20220806
DTEND;VALUE=DATE:20220808
DTSTAMP:20260421T191230
CREATED:20180718T234332Z
LAST-MODIFIED:20180718T234332Z
UID:1246-1659744000-1659916799@dixonmayfair.com
SUMMARY:AKC All Breeds Dog Show
DESCRIPTION:Richmond Dog Fanciers\nAKC All Breeds Dog Show\nSaturday\, August 6\, 2022\nSunday\, August 7\, 2022\n8:00 a.m. to 5 p.m.\nwww.facebook.com/Richmond-Dog-Fanciers-128756313809815
URL:https://dixonmayfair.com/event/akc-all-breeds-dog-show-2/
ATTACH;FMTTYPE=image/jpeg:https://dixonmayfair.com/wp-content/uploads/2018/07/Richmond-Dog-Fanciers-e1531932442271.jpg
END:VEVENT
BEGIN:VEVENT
DTSTART;TZID=America/Los_Angeles:20220617T070000
DTEND;TZID=America/Los_Angeles:20220617T170000
DTSTAMP:20260421T191230
CREATED:20190412T025928Z
LAST-MODIFIED:20190412T025928Z
UID:1511-1655449200-1655485200@dixonmayfair.com
SUMMARY:Fort Sutter Antique Motorcycle Association
DESCRIPTION:Friday\, June 17th \nSaturday\, June 18th \nhttps://www.fortsutteramca.org/upcoming-events/
URL:https://dixonmayfair.com/event/fort-sutter-antique-motorcycle-association-2-2/
END:VEVENT
BEGIN:VEVENT
DTSTART;TZID=America/Los_Angeles:20220605T110000
DTEND;TZID=America/Los_Angeles:20220605T170000
DTSTAMP:20260421T191230
CREATED:20190412T025523Z
LAST-MODIFIED:20190412T025523Z
UID:1506-1654426800-1654448400@dixonmayfair.com
SUMMARY:Iron Steed Harley-Davidson of Vacaville Hot Rods & Harleys
DESCRIPTION:  \nhttps://ironsteedhd.com/car-bike-show/
URL:https://dixonmayfair.com/event/hot-rods-harleys/
END:VEVENT
BEGIN:VEVENT
DTSTART;TZID=America/Los_Angeles:20220110T000000
DTEND;TZID=America/Los_Angeles:20220110T000000
DTSTAMP:20260421T191230
CREATED:20240823T155833Z
LAST-MODIFIED:20240823T155833Z
UID:1800-1641772800-1641772800@dixonmayfair.com
SUMMARY:Poppy State Cat Club
DESCRIPTION:Poppy State Cat Club – Cat Show \nDecember 16\, 2023 \nMadden Hall \nHours 9 a.m. to 4 p.m. \n  \nCOVID Procedures \n\nDo not attend if you feel sick or have been exposed to someone who has been sick.\nWear a mask. Masks are required indoors regardless of vaccination status.\nMaintain 6 foot distance from others\nFrequently wash your hands with soap and water for at least 20 seconds or use hand sanitizer with at least 60% alcohol.\nCover your mouth and nose when coughing or sneezing\, or cough or sneeze into the crook of your arm at your elbow or sleeve.
URL:https://dixonmayfair.com/event/poppy-state-cat-club/
ATTACH;FMTTYPE=image/png:https://dixonmayfair.com/wp-content/uploads/2024/08/Logo2021-p6vd969hcez5750u6tz9sfkwgylb0aykekizi7bvei-2pcSVZ.tmp_.png
END:VEVENT
BEGIN:VEVENT
DTSTART;TZID=UTC:20211102T150000
DTEND;TZID=UTC:20211102T180000
DTSTAMP:20260421T191230
CREATED:20211021T045150Z
LAST-MODIFIED:20211021T045150Z
UID:4212-1635865200-1635876000@dixonmayfair.com
SUMMARY:Capitol Christmas Tree
DESCRIPTION:  \n84′ Capitol Christmas Tree Viewing at Dixon Fairgrounds Tuesday\, November 2nd from 3 p.m. to 6 p.m. \nPark at Hall Park and enter through Gate F  which is across from the Hall Park parking lot.
URL:https://dixonmayfair.com/event/capitol-christmas-tree-2/
ATTACH;FMTTYPE=image/png:https://dixonmayfair.com/wp-content/uploads/2021/10/2021-USCCT-LOGO.png
END:VEVENT
BEGIN:VEVENT
DTSTART;TZID=America/Los_Angeles:20211020T000000
DTEND;TZID=America/Los_Angeles:20211020T000000
DTSTAMP:20260421T191230
CREATED:20240823T155832Z
LAST-MODIFIED:20240823T155832Z
UID:1798-1634688000-1634688000@dixonmayfair.com
SUMMARY:Capitol Christmas Tree
DESCRIPTION:  \n84′ Capitol Christmas Tree Viewing at Dixon Fairgrounds Tuesday\, November 2nd from 3 p.m. to 6 p.m. \nPark at Hall Park and enter through Gate F  which is across from the Hall Park parking lot.
URL:https://dixonmayfair.com/event/capitol-christmas-tree/
ATTACH;FMTTYPE=image/png:https://dixonmayfair.com/wp-content/uploads/2024/08/2021-USCCT-LOGO-s4J07Q.tmp_.png
END:VEVENT
BEGIN:VEVENT
DTSTART;TZID=America/Los_Angeles:20211001T000000
DTEND;TZID=America/Los_Angeles:20211001T000000
DTSTAMP:20260421T191230
CREATED:20240823T155817Z
LAST-MODIFIED:20240823T155817Z
UID:1797-1633046400-1633046400@dixonmayfair.com
SUMMARY:Pin-A-Go-Go Pinball Show
DESCRIPTION:https://www.pin-a-go-go.org/ \nPin-A-Go-Go Pinball Show \nOctober 11 – 13\, 2024   (11th – 2 p.m. – 10 p.m.; 12th – 10 a.m. – 10 p.m. & 13th – 10 a.m. – 4 p.m.) \nInformation can be found at www.pin-a-go-go.org \n  \n 
URL:https://dixonmayfair.com/event/pin-a-go-go-pinball-show-2/
ATTACH;FMTTYPE=image/jpeg:https://dixonmayfair.com/wp-content/uploads/2024/08/pinagogopaggLogo-0TJt5S.tmp_.jpg
END:VEVENT
BEGIN:VEVENT
DTSTART;TZID=America/Los_Angeles:20210323T000000
DTEND;TZID=America/Los_Angeles:20210323T000000
DTSTAMP:20260421T191230
CREATED:20240823T155817Z
LAST-MODIFIED:20240823T155817Z
UID:1796-1616457600-1616457600@dixonmayfair.com
SUMMARY:Dixon Gun Show
DESCRIPTION:Saturday\, June 1st  – 9 a.m. to 5 p.m. & Sunday\, June 2nd – 9 a.m. to 4 p.m. \nFor complete details visit:  www.dixongunshow.com \nCOVID Procedures  (Occupancy may be monitored therefore you may experience a wait time to enter) \n\nDo not attend if you feel sick or have been exposed to someone who has been sick\nWear a mask (optional)\nMaintain 6 foot distance from others\nFrequently wash your hands with soap and water for at least 20 seconds or use hand sanitizer with at least 60% alcohol.\nCover your mouth and nose when coughing or sneezing\, or cough or sneeze into the crook of your arm at your elbow or sleeve.
URL:https://dixonmayfair.com/event/dixon-gun-show-4/
END:VEVENT
BEGIN:VEVENT
DTSTART;TZID=America/Los_Angeles:20200108T000000
DTEND;TZID=America/Los_Angeles:20200108T000000
DTSTAMP:20260421T191230
CREATED:20240823T155817Z
LAST-MODIFIED:20240823T155817Z
UID:1795-1578441600-1578441600@dixonmayfair.com
SUMMARY:Solano Rabbit Breeders Association
DESCRIPTION:Rabbit Show\nMadden Hall\nSaturday\, January 4\, 2020\nhttps://www.facebook.com/events/453645801967367/
URL:https://dixonmayfair.com/event/solano-rabbit-breeders-association-2/
END:VEVENT
BEGIN:VEVENT
DTSTART;VALUE=DATE:20191011
DTEND;VALUE=DATE:20191014
DTSTAMP:20260421T191230
CREATED:20180719T035233Z
LAST-MODIFIED:20240926T212040Z
UID:1260-1570752000-1571011199@dixonmayfair.com
SUMMARY:Pin-A-Go-Go Pinball Show
DESCRIPTION:Pin-A-G-Go Pinball Show \nMadden Hall \nFriday\, October 11\, 2019 – 2 p.m. to 10 p.m. \nSaturday\, October 12\, 2019 – 10 a.m. to 10 p.m. \nSunday\, October 13\, 2019 – 10 a.m. to 4 p.m. \nwww.Pin-a-go-go.org
URL:https://dixonmayfair.com/event/pin-a-go-go-pinball-show-3/
ATTACH;FMTTYPE=image/jpeg:https://dixonmayfair.com/wp-content/uploads/2018/07/pinagogopaggLogo.jpg
END:VEVENT
BEGIN:VEVENT
DTSTART;TZID=America/Los_Angeles:20190719T000000
DTEND;TZID=America/Los_Angeles:20190719T000000
DTSTAMP:20260421T191230
CREATED:20240823T155816Z
LAST-MODIFIED:20240823T155816Z
UID:1793-1563494400-1563494400@dixonmayfair.com
SUMMARY:Donner Trail Kennel Club
DESCRIPTION:Donner Trail Kennel Club \nAKC All Breeds Dog Show\nSaturday\, September 23rd & Sunday\, September 24th\n8 a.m. to 5 p.m. \n 
URL:https://dixonmayfair.com/event/donner-trail-kennel-club/
END:VEVENT
BEGIN:VEVENT
DTSTART;TZID=UTC:20190413T180000
DTEND;TZID=UTC:20190413T220000
DTSTAMP:20260421T191230
CREATED:20180327T041704Z
LAST-MODIFIED:20180327T041704Z
UID:1114-1555178400-1555192800@dixonmayfair.com
SUMMARY:Dixon Lions Club - Dinner Dance
DESCRIPTION:45th Annual Dinner Dance Fundraiser \nCocktails: 6:00pm / New York Steak Dinner: 7:00pm \nMadden Hall – Dixon Fairgrounds \nTickets: $75 per person
URL:https://dixonmayfair.com/event/dixon-lions-club-dinner-dance-2/
ATTACH;FMTTYPE=image/jpeg:https://dixonmayfair.com/wp-content/uploads/2018/03/Lions-Club-Masquerade-Ball-2019.jpg
END:VEVENT
BEGIN:VEVENT
DTSTART;TZID=America/Los_Angeles:20190411T000000
DTEND;TZID=America/Los_Angeles:20190411T000000
DTSTAMP:20260421T191230
CREATED:20240823T155805Z
LAST-MODIFIED:20240823T155805Z
UID:1791-1554940800-1554940800@dixonmayfair.com
SUMMARY:Fort Sutter Antique Motorcycle Association
DESCRIPTION:Friday\, June 17th \nSaturday\, June 18th \nhttps://www.fortsutteramca.org/upcoming-events/
URL:https://dixonmayfair.com/event/fort-sutter-antique-motorcycle-association-2/
END:VEVENT
BEGIN:VEVENT
DTSTART;TZID=America/Los_Angeles:20190411T000000
DTEND;TZID=America/Los_Angeles:20190411T000000
DTSTAMP:20260421T191230
CREATED:20240823T155804Z
LAST-MODIFIED:20240823T155804Z
UID:1790-1554940800-1554940800@dixonmayfair.com
SUMMARY:Iron Steed Harley-Davidson of Vacaville Hot Rods & Harleys
DESCRIPTION:  \nhttps://ironsteedhd.com/car-bike-show/
URL:https://dixonmayfair.com/event/iron-steed-harley-davidson-of-vacaville-hot-rods-harleys/
END:VEVENT
BEGIN:VEVENT
DTSTART;TZID=America/Los_Angeles:20190411T000000
DTEND;TZID=America/Los_Angeles:20190411T000000
DTSTAMP:20260421T191230
CREATED:20240823T155803Z
LAST-MODIFIED:20240823T155803Z
UID:1788-1554940800-1554940800@dixonmayfair.com
SUMMARY:Dixon May Fair
DESCRIPTION:  \nThursday\, May 9th – 4 p.m. to 10 p.m. \nFriday\, May 10th – Noon to 11 p.m. \nSaturday\, May 11th – 11 a.m. to 11 p.m. \nSunday\, May 12th – Noon to 10 p.m. \nTicket Sales cease 1 hour before closing with no entrance at that time.
URL:https://dixonmayfair.com/event/dixon-may-fair-2/
ATTACH;FMTTYPE=image/jpeg:https://dixonmayfair.com/wp-content/uploads/2024/08/Dixon-May-Fair-Logo-2024-scaled-58yILW.tmp_.jpg
END:VEVENT
BEGIN:VEVENT
DTSTART;TZID=UTC:20190209T100000
DTEND;TZID=UTC:20190209T180000
DTSTAMP:20260421T191230
CREATED:20181227T083602Z
LAST-MODIFIED:20181227T083602Z
UID:1347-1549706400-1549735200@dixonmayfair.com
SUMMARY:Solano County Home & Garden Show
DESCRIPTION:Solano County Home & Garden Show \nSaturday\, February 9\, 2019 \nSunday\, February 10\, 2019 \n(Hours Saturday 10 a.m. to 6 pm. & Sunday 10 a.m. to 5 p.m.) \nhttps://www.solanohomeshow.com/
URL:https://dixonmayfair.com/event/solano-county-home-garden-show-3/
ATTACH;FMTTYPE=image/png:https://dixonmayfair.com/wp-content/uploads/2016/11/Dixon-Home-Show-front-image.png
END:VEVENT
BEGIN:VEVENT
DTSTART;TZID=America/Los_Angeles:20181227T000000
DTEND;TZID=America/Los_Angeles:20181227T000000
DTSTAMP:20260421T191230
CREATED:20240823T155801Z
LAST-MODIFIED:20240823T155801Z
UID:1786-1545868800-1545868800@dixonmayfair.com
SUMMARY:Dixon Rotary - Crab Feed
DESCRIPTION:Dixon Rotary Club  \nCrab Feed \nMadden Hall \nSaturday\, February 24\, 2024 \n6 p.m. to 11:30 p.m. \nhttps://www.dixonrotary.org/ \n 
URL:https://dixonmayfair.com/event/dixon-rotary-crab-feed/
ATTACH;FMTTYPE=image/png:https://dixonmayfair.com/wp-content/uploads/2024/08/rotary_sign_default-FYu6M5.tmp_.png
END:VEVENT
BEGIN:VEVENT
DTSTART;TZID=America/Los_Angeles:20181227T000000
DTEND;TZID=America/Los_Angeles:20181227T000000
DTSTAMP:20260421T191230
CREATED:20240823T155747Z
LAST-MODIFIED:20240823T155747Z
UID:1784-1545868800-1545868800@dixonmayfair.com
SUMMARY:Dixon Gun Show
DESCRIPTION:Dixon Gun Show \nSaturday\, February 15\, 2020 \nSunday\, February 16\, 2020 \n(Hours Saturday 9 a.m. to 5 pm. & Sunday 9 a.m. to 4 p.m.) \nhttps://www.dixongunshow.com/
URL:https://dixonmayfair.com/event/dixon-gun-show-3/
ATTACH;FMTTYPE=image/jpeg:https://dixonmayfair.com/wp-content/uploads/2024/08/Arabia-gun-Sow-Logo-e1545953411440-bVjbCF.tmp_.jpg
END:VEVENT
BEGIN:VEVENT
DTSTART;TZID=America/Los_Angeles:20181227T000000
DTEND;TZID=America/Los_Angeles:20181227T000000
DTSTAMP:20260421T191230
CREATED:20240823T155745Z
LAST-MODIFIED:20240823T155745Z
UID:1780-1545868800-1545868800@dixonmayfair.com
SUMMARY:California Waterfowl Association - Aggies CWA Hunter Party
DESCRIPTION:California Waterfowl Association \nAggies CWA Hunter Party \nSaturday\, March 21\, 2020 \nhttps://www.calwaterfowl.org
URL:https://dixonmayfair.com/event/california-waterfowl-association-aggies-cwa-hunter-party/
END:VEVENT
BEGIN:VEVENT
DTSTART;TZID=America/Los_Angeles:20181227T000000
DTEND;TZID=America/Los_Angeles:20181227T000000
DTSTAMP:20260421T191230
CREATED:20240823T155745Z
LAST-MODIFIED:20240823T155745Z
UID:1781-1545868800-1545868800@dixonmayfair.com
SUMMARY:Twin Bridges Antique Productions - Antique Show
DESCRIPTION:Twin Bridges Antique Productions \nAntique Show \nSaturday\, March 14\, 2020 & Sunday\, March 15\, 2020 \n(Hours: Saturday 10 a.m. to 5 p.m. & Sunday 10 a.m. to 4 p.m.) \nhttp://www.tbcashows.info/dixon_3_19.html
URL:https://dixonmayfair.com/event/twin-bridges-antique-productions-antique-show/
END:VEVENT
BEGIN:VEVENT
DTSTART;TZID=America/Los_Angeles:20181227T000000
DTEND;TZID=America/Los_Angeles:20181227T000000
DTSTAMP:20260421T191230
CREATED:20240823T155731Z
LAST-MODIFIED:20240823T155731Z
UID:1778-1545868800-1545868800@dixonmayfair.com
SUMMARY:Solano County Home & Garden Show
DESCRIPTION:Solano County Home & Garden Show \nSaturday\, February 9\, 2019 \nSunday\, February 10\, 2019 \n(Hours Saturday 10 a.m. to 6 pm. & Sunday 10 a.m. to 5 p.m.) \nhttps://www.solanohomeshow.com/
URL:https://dixonmayfair.com/event/solano-county-home-garden-show/
ATTACH;FMTTYPE=image/png:https://dixonmayfair.com/wp-content/uploads/2024/08/Dixon-Home-Show-front-image-JJQg7J.tmp_.png
END:VEVENT
BEGIN:VEVENT
DTSTART;TZID=America/Los_Angeles:20181227T000000
DTEND;TZID=America/Los_Angeles:20181227T000000
DTSTAMP:20260421T191230
CREATED:20240823T155730Z
LAST-MODIFIED:20240823T155730Z
UID:1777-1545868800-1545868800@dixonmayfair.com
SUMMARY:Dixon Game Conservation Club - Crab Feed
DESCRIPTION:Dixon Game Conservation Club  \nCrab Feed \nSaturday\, February 3\, 2024 \n6pm to 10pm
URL:https://dixonmayfair.com/event/dixon-game-conservation-club-crab-feed/
END:VEVENT
BEGIN:VEVENT
DTSTART;TZID=America/Los_Angeles:20181218T000000
DTEND;TZID=America/Los_Angeles:20181218T000000
DTSTAMP:20260421T191230
CREATED:20240823T155730Z
LAST-MODIFIED:20240823T155730Z
UID:1776-1545091200-1545091200@dixonmayfair.com
SUMMARY:GT America\, LLC/Epsilon Sigma Rho Fraternity
DESCRIPTION:Unity College Fest \nSaturday\, January 12th \n6 p.m. to 12 Midnight \nhttps://www.facebook.com/events/342200496556466/
URL:https://dixonmayfair.com/event/gt-america-llc-epsilon-sigma-rho-fraternity/
END:VEVENT
END:VCALENDAR