BEGIN:VCALENDAR
VERSION:2.0
PRODID:-//Dixon May Fair - ECPv6.15.20//NONSGML v1.0//EN
CALSCALE:GREGORIAN
METHOD:PUBLISH
X-WR-CALNAME:Dixon May Fair
X-ORIGINAL-URL:https://dixonmayfair.com
X-WR-CALDESC:Events for Dixon May Fair
REFRESH-INTERVAL;VALUE=DURATION:PT1H
X-Robots-Tag:noindex
X-PUBLISHED-TTL:PT1H
BEGIN:VTIMEZONE
TZID:America/Los_Angeles
BEGIN:DAYLIGHT
TZOFFSETFROM:-0800
TZOFFSETTO:-0700
TZNAME:PDT
DTSTART:20170312T100000
END:DAYLIGHT
BEGIN:STANDARD
TZOFFSETFROM:-0700
TZOFFSETTO:-0800
TZNAME:PST
DTSTART:20171105T090000
END:STANDARD
BEGIN:DAYLIGHT
TZOFFSETFROM:-0800
TZOFFSETTO:-0700
TZNAME:PDT
DTSTART:20180311T100000
END:DAYLIGHT
BEGIN:STANDARD
TZOFFSETFROM:-0700
TZOFFSETTO:-0800
TZNAME:PST
DTSTART:20181104T090000
END:STANDARD
BEGIN:DAYLIGHT
TZOFFSETFROM:-0800
TZOFFSETTO:-0700
TZNAME:PDT
DTSTART:20190310T100000
END:DAYLIGHT
BEGIN:STANDARD
TZOFFSETFROM:-0700
TZOFFSETTO:-0800
TZNAME:PST
DTSTART:20191103T090000
END:STANDARD
BEGIN:DAYLIGHT
TZOFFSETFROM:-0800
TZOFFSETTO:-0700
TZNAME:PDT
DTSTART:20200308T100000
END:DAYLIGHT
BEGIN:STANDARD
TZOFFSETFROM:-0700
TZOFFSETTO:-0800
TZNAME:PST
DTSTART:20201101T090000
END:STANDARD
END:VTIMEZONE
BEGIN:VTIMEZONE
TZID:UTC
BEGIN:STANDARD
TZOFFSETFROM:+0000
TZOFFSETTO:+0000
TZNAME:UTC
DTSTART:20170101T000000
END:STANDARD
END:VTIMEZONE
BEGIN:VEVENT
DTSTART;TZID=America/Los_Angeles:20190411T000000
DTEND;TZID=America/Los_Angeles:20190411T000000
DTSTAMP:20260421T185146
CREATED:20240823T155804Z
LAST-MODIFIED:20240823T155804Z
UID:1790-1554940800-1554940800@dixonmayfair.com
SUMMARY:Iron Steed Harley-Davidson of Vacaville Hot Rods & Harleys
DESCRIPTION:  \nhttps://ironsteedhd.com/car-bike-show/
URL:https://dixonmayfair.com/event/iron-steed-harley-davidson-of-vacaville-hot-rods-harleys/
END:VEVENT
BEGIN:VEVENT
DTSTART;TZID=America/Los_Angeles:20190411T000000
DTEND;TZID=America/Los_Angeles:20190411T000000
DTSTAMP:20260421T185146
CREATED:20240823T155803Z
LAST-MODIFIED:20240823T155803Z
UID:1788-1554940800-1554940800@dixonmayfair.com
SUMMARY:Dixon May Fair
DESCRIPTION:  \nThursday\, May 9th – 4 p.m. to 10 p.m. \nFriday\, May 10th – Noon to 11 p.m. \nSaturday\, May 11th – 11 a.m. to 11 p.m. \nSunday\, May 12th – Noon to 10 p.m. \nTicket Sales cease 1 hour before closing with no entrance at that time.
URL:https://dixonmayfair.com/event/dixon-may-fair-2/
ATTACH;FMTTYPE=image/jpeg:https://dixonmayfair.com/wp-content/uploads/2024/08/Dixon-May-Fair-Logo-2024-scaled-58yILW.tmp_.jpg
END:VEVENT
BEGIN:VEVENT
DTSTART;TZID=UTC:20190209T100000
DTEND;TZID=UTC:20190209T180000
DTSTAMP:20260421T185146
CREATED:20181227T083602Z
LAST-MODIFIED:20181227T083602Z
UID:1347-1549706400-1549735200@dixonmayfair.com
SUMMARY:Solano County Home & Garden Show
DESCRIPTION:Solano County Home & Garden Show \nSaturday\, February 9\, 2019 \nSunday\, February 10\, 2019 \n(Hours Saturday 10 a.m. to 6 pm. & Sunday 10 a.m. to 5 p.m.) \nhttps://www.solanohomeshow.com/
URL:https://dixonmayfair.com/event/solano-county-home-garden-show-3/
ATTACH;FMTTYPE=image/png:https://dixonmayfair.com/wp-content/uploads/2016/11/Dixon-Home-Show-front-image.png
END:VEVENT
BEGIN:VEVENT
DTSTART;TZID=America/Los_Angeles:20181227T000000
DTEND;TZID=America/Los_Angeles:20181227T000000
DTSTAMP:20260421T185146
CREATED:20240823T155801Z
LAST-MODIFIED:20240823T155801Z
UID:1786-1545868800-1545868800@dixonmayfair.com
SUMMARY:Dixon Rotary - Crab Feed
DESCRIPTION:Dixon Rotary Club  \nCrab Feed \nMadden Hall \nSaturday\, February 24\, 2024 \n6 p.m. to 11:30 p.m. \nhttps://www.dixonrotary.org/ \n 
URL:https://dixonmayfair.com/event/dixon-rotary-crab-feed/
ATTACH;FMTTYPE=image/png:https://dixonmayfair.com/wp-content/uploads/2024/08/rotary_sign_default-FYu6M5.tmp_.png
END:VEVENT
BEGIN:VEVENT
DTSTART;TZID=America/Los_Angeles:20181227T000000
DTEND;TZID=America/Los_Angeles:20181227T000000
DTSTAMP:20260421T185146
CREATED:20240823T155747Z
LAST-MODIFIED:20240823T155747Z
UID:1784-1545868800-1545868800@dixonmayfair.com
SUMMARY:Dixon Gun Show
DESCRIPTION:Dixon Gun Show \nSaturday\, February 15\, 2020 \nSunday\, February 16\, 2020 \n(Hours Saturday 9 a.m. to 5 pm. & Sunday 9 a.m. to 4 p.m.) \nhttps://www.dixongunshow.com/
URL:https://dixonmayfair.com/event/dixon-gun-show-3/
ATTACH;FMTTYPE=image/jpeg:https://dixonmayfair.com/wp-content/uploads/2024/08/Arabia-gun-Sow-Logo-e1545953411440-bVjbCF.tmp_.jpg
END:VEVENT
BEGIN:VEVENT
DTSTART;TZID=America/Los_Angeles:20181227T000000
DTEND;TZID=America/Los_Angeles:20181227T000000
DTSTAMP:20260421T185146
CREATED:20240823T155745Z
LAST-MODIFIED:20240823T155745Z
UID:1780-1545868800-1545868800@dixonmayfair.com
SUMMARY:California Waterfowl Association - Aggies CWA Hunter Party
DESCRIPTION:California Waterfowl Association \nAggies CWA Hunter Party \nSaturday\, March 21\, 2020 \nhttps://www.calwaterfowl.org
URL:https://dixonmayfair.com/event/california-waterfowl-association-aggies-cwa-hunter-party/
END:VEVENT
BEGIN:VEVENT
DTSTART;TZID=America/Los_Angeles:20181227T000000
DTEND;TZID=America/Los_Angeles:20181227T000000
DTSTAMP:20260421T185146
CREATED:20240823T155745Z
LAST-MODIFIED:20240823T155745Z
UID:1781-1545868800-1545868800@dixonmayfair.com
SUMMARY:Twin Bridges Antique Productions - Antique Show
DESCRIPTION:Twin Bridges Antique Productions \nAntique Show \nSaturday\, March 14\, 2020 & Sunday\, March 15\, 2020 \n(Hours: Saturday 10 a.m. to 5 p.m. & Sunday 10 a.m. to 4 p.m.) \nhttp://www.tbcashows.info/dixon_3_19.html
URL:https://dixonmayfair.com/event/twin-bridges-antique-productions-antique-show/
END:VEVENT
BEGIN:VEVENT
DTSTART;TZID=America/Los_Angeles:20181227T000000
DTEND;TZID=America/Los_Angeles:20181227T000000
DTSTAMP:20260421T185146
CREATED:20240823T155731Z
LAST-MODIFIED:20240823T155731Z
UID:1778-1545868800-1545868800@dixonmayfair.com
SUMMARY:Solano County Home & Garden Show
DESCRIPTION:Solano County Home & Garden Show \nSaturday\, February 9\, 2019 \nSunday\, February 10\, 2019 \n(Hours Saturday 10 a.m. to 6 pm. & Sunday 10 a.m. to 5 p.m.) \nhttps://www.solanohomeshow.com/
URL:https://dixonmayfair.com/event/solano-county-home-garden-show/
ATTACH;FMTTYPE=image/png:https://dixonmayfair.com/wp-content/uploads/2024/08/Dixon-Home-Show-front-image-JJQg7J.tmp_.png
END:VEVENT
BEGIN:VEVENT
DTSTART;TZID=America/Los_Angeles:20181227T000000
DTEND;TZID=America/Los_Angeles:20181227T000000
DTSTAMP:20260421T185146
CREATED:20240823T155730Z
LAST-MODIFIED:20240823T155730Z
UID:1777-1545868800-1545868800@dixonmayfair.com
SUMMARY:Dixon Game Conservation Club - Crab Feed
DESCRIPTION:Dixon Game Conservation Club  \nCrab Feed \nSaturday\, February 3\, 2024 \n6pm to 10pm
URL:https://dixonmayfair.com/event/dixon-game-conservation-club-crab-feed/
END:VEVENT
BEGIN:VEVENT
DTSTART;TZID=America/Los_Angeles:20181218T000000
DTEND;TZID=America/Los_Angeles:20181218T000000
DTSTAMP:20260421T185146
CREATED:20240823T155730Z
LAST-MODIFIED:20240823T155730Z
UID:1776-1545091200-1545091200@dixonmayfair.com
SUMMARY:GT America\, LLC/Epsilon Sigma Rho Fraternity
DESCRIPTION:Unity College Fest \nSaturday\, January 12th \n6 p.m. to 12 Midnight \nhttps://www.facebook.com/events/342200496556466/
URL:https://dixonmayfair.com/event/gt-america-llc-epsilon-sigma-rho-fraternity/
END:VEVENT
BEGIN:VEVENT
DTSTART;VALUE=DATE:20181103
DTEND;VALUE=DATE:20181104
DTSTAMP:20260421T185146
CREATED:20180720T061154Z
LAST-MODIFIED:20180720T061154Z
UID:1273-1541203200-1541289599@dixonmayfair.com
SUMMARY:Dixon Chamber of Commerce - Epicurean Fete
DESCRIPTION:Dixon Chamber of Commerce\nEpicurean Fete\nMadden Hall\nSaturday\, November 3\, 2018\nwww.dixonchamber.org
URL:https://dixonmayfair.com/event/dcc-epicurean-fete/
ATTACH;FMTTYPE=image/jpeg:https://dixonmayfair.com/wp-content/uploads/2018/07/Epicurean.jpg
END:VEVENT
BEGIN:VEVENT
DTSTART;VALUE=DATE:20181016
DTEND;VALUE=DATE:20181019
DTSTAMP:20260421T185146
CREATED:20180719T035907Z
LAST-MODIFIED:20180719T035907Z
UID:1266-1539648000-1539907199@dixonmayfair.com
SUMMARY:North Bay Stand Down
DESCRIPTION:North Bay Stand Down \nOctober 16 – 18\, 2018 \nwww.nbstanddown.org
URL:https://dixonmayfair.com/event/north-bay-stand-down-2/
ATTACH;FMTTYPE=image/jpeg:https://dixonmayfair.com/wp-content/uploads/2018/07/NBSD-logo-art-smaller.jpg
END:VEVENT
BEGIN:VEVENT
DTSTART;TZID=UTC:20180908T100000
DTEND;TZID=UTC:20180908T170000
DTSTAMP:20260421T185146
CREATED:20180718T234549Z
LAST-MODIFIED:20180718T234549Z
UID:1249-1536400800-1536426000@dixonmayfair.com
SUMMARY:13th Annual Renegade Rendezvous - Bike Show MMA Fights
DESCRIPTION:Saturday\, September 8\, 2018\n10 a.m. to 5 p.m.\nwww.Renegadeevents.com
URL:https://dixonmayfair.com/event/13th-annual-renegade-rendezvous-bike-show-mma-fights-2/
ATTACH;FMTTYPE=image/jpeg:https://dixonmayfair.com/wp-content/uploads/2017/07/home_06.jpg
END:VEVENT
BEGIN:VEVENT
DTSTART;TZID=America/Los_Angeles:20180719T000000
DTEND;TZID=America/Los_Angeles:20180719T000000
DTSTAMP:20260421T185146
CREATED:20240823T155601Z
LAST-MODIFIED:20240823T155601Z
UID:1773-1531958400-1531958400@dixonmayfair.com
SUMMARY:Dixon High School Hall of Fame Dinner
DESCRIPTION:Dixon High School Hall of Fame Dinner\nMadden Hall\nSaturday\, November 11\, 2023\nwww.dixonhighhalloffame.org
URL:https://dixonmayfair.com/event/dixon-high-school-hall-of-fame-dinner/
ATTACH;FMTTYPE=image/jpeg:https://dixonmayfair.com/wp-content/uploads/2024/08/Hall-of-Fame-logo-4VA7hB.tmp_.jpg
END:VEVENT
BEGIN:VEVENT
DTSTART;TZID=America/Los_Angeles:20180719T000000
DTEND;TZID=America/Los_Angeles:20180719T000000
DTSTAMP:20260421T185146
CREATED:20240823T155600Z
LAST-MODIFIED:20240823T155600Z
UID:1771-1531958400-1531958400@dixonmayfair.com
SUMMARY:Dixon Chamber of Commerce - Epicurean Fete
DESCRIPTION:Dixon Chamber of Commerce\nEpicurean Fete\nMadden Hall\nSaturday\, November 3\, 2018\nwww.dixonchamber.org
URL:https://dixonmayfair.com/event/dixon-chamber-of-commerce-epicurean-fete-2/
ATTACH;FMTTYPE=image/jpeg:https://dixonmayfair.com/wp-content/uploads/2024/08/Epicurean-0SBPJz.tmp_.jpg
END:VEVENT
BEGIN:VEVENT
DTSTART;TZID=America/Los_Angeles:20180719T000000
DTEND;TZID=America/Los_Angeles:20180719T000000
DTSTAMP:20260421T185146
CREATED:20240823T155558Z
LAST-MODIFIED:20240823T155558Z
UID:1769-1531958400-1531958400@dixonmayfair.com
SUMMARY:Sacramento Valley Dog Fanciers
DESCRIPTION:Sacramento Valley Dog Fanciers \nAKC All Breeds Dog Show\nOctober 26\, 2024\nOctober 27\, 2024\n8:00am to 5:00pm \nwww.sacvalleydfa.com
URL:https://dixonmayfair.com/event/sacramento-valley-dog-fanciers/
ATTACH;FMTTYPE=image/gif:https://dixonmayfair.com/wp-content/uploads/2024/08/Sacramento-Valley-Dog-Show-NWvKBK.tmp_.gif
END:VEVENT
BEGIN:VEVENT
DTSTART;TZID=America/Los_Angeles:20180718T000000
DTEND;TZID=America/Los_Angeles:20180718T000000
DTSTAMP:20260421T185146
CREATED:20240823T155557Z
LAST-MODIFIED:20240823T155557Z
UID:1766-1531872000-1531872000@dixonmayfair.com
SUMMARY:North Bay Stand Down
DESCRIPTION:North Bay Stand Down \nOctober 16 – 18\, 2018 \nwww.nbstanddown.org
URL:https://dixonmayfair.com/event/north-bay-stand-down/
ATTACH;FMTTYPE=image/jpeg:https://dixonmayfair.com/wp-content/uploads/2024/08/NBSD-logo-art-smaller-M6uEBl.tmp_.jpg
END:VEVENT
BEGIN:VEVENT
DTSTART;TZID=America/Los_Angeles:20180718T000000
DTEND;TZID=America/Los_Angeles:20180718T000000
DTSTAMP:20260421T185146
CREATED:20240823T155556Z
LAST-MODIFIED:20240823T155556Z
UID:1765-1531872000-1531872000@dixonmayfair.com
SUMMARY:Haute Dawgs Agility Group
DESCRIPTION:Haute Dawgs Agility Group \nSouth Lawn on Fairgrounds \nSaturday\, April 6\, 2024 \nSunday\, April 7\, 2024 \n(Hours vary consult their website) \nwww.hautedawgs.org
URL:https://dixonmayfair.com/event/haute-dawgs-agility-group/
ATTACH;FMTTYPE=image/jpeg:https://dixonmayfair.com/wp-content/uploads/2024/08/HauteDawgsWebsiteLogo-M8s9RI.tmp_.jpg
END:VEVENT
BEGIN:VEVENT
DTSTART;TZID=America/Los_Angeles:20180718T000000
DTEND;TZID=America/Los_Angeles:20180718T000000
DTSTAMP:20260421T185146
CREATED:20240823T155401Z
LAST-MODIFIED:20240823T155401Z
UID:1762-1531872000-1531872000@dixonmayfair.com
SUMMARY:Pin-A-Go-Go Pinball Show
DESCRIPTION:Pin-A-G-Go Pinball Show \nMadden Hall \nFriday\, October 11\, 2019 – 2 p.m. to 10 p.m. \nSaturday\, October 12\, 2019 – 10 a.m. to 10 p.m. \nSunday\, October 13\, 2019 – 10 a.m. to 4 p.m. \nwww.Pin-a-go-go.org
URL:https://dixonmayfair.com/event/pin-a-go-go-pinball-show/
ATTACH;FMTTYPE=image/jpeg:https://dixonmayfair.com/wp-content/uploads/2024/08/pinagogopaggLogo-0TJt5S.tmp_.jpg
END:VEVENT
BEGIN:VEVENT
DTSTART;TZID=America/Los_Angeles:20180718T000000
DTEND;TZID=America/Los_Angeles:20180718T000000
DTSTAMP:20260421T185146
CREATED:20240823T155359Z
LAST-MODIFIED:20240823T155359Z
UID:1761-1531872000-1531872000@dixonmayfair.com
SUMMARY:Lambtown Festival
DESCRIPTION:Lambtown Festival \nOctober 5\, 2024  – 9 a.m. to 5 p.m. \nOctober 6\, 2024 – 9 a.m. to 4:00 p.m. \nwww.lambtown.org
URL:https://dixonmayfair.com/event/lambtown-festival/
ATTACH;FMTTYPE=image/webp:https://dixonmayfair.com/wp-content/uploads/2024/08/Lambtown-Logo-GDeVo6.tmp_.webp
END:VEVENT
BEGIN:VEVENT
DTSTART;TZID=America/Los_Angeles:20180718T000000
DTEND;TZID=America/Los_Angeles:20180718T000000
DTSTAMP:20260421T185146
CREATED:20240823T155358Z
LAST-MODIFIED:20240823T155358Z
UID:1759-1531872000-1531872000@dixonmayfair.com
SUMMARY:Dixon Scottish Cultural Association Games and Gathering
DESCRIPTION:Dixon Scottish Cultural Association\nGames and Gathering\nSaturday\, September 28\, 2019 – 9 a.m. to 5 p.m.\nwww.scotsindixon.org
URL:https://dixonmayfair.com/event/dixon-scottish-cultural-association-games-and-gathering/
ATTACH;FMTTYPE=image/jpeg:https://dixonmayfair.com/wp-content/uploads/2024/08/Dixon-Scottish-Games-ZJAyUz.tmp_.jpg
END:VEVENT
BEGIN:VEVENT
DTSTART;TZID=America/Los_Angeles:20180718T000000
DTEND;TZID=America/Los_Angeles:20180718T000000
DTSTAMP:20260421T185146
CREATED:20240823T155357Z
LAST-MODIFIED:20240823T155357Z
UID:1757-1531872000-1531872000@dixonmayfair.com
SUMMARY:13th Annual Renegade Rendezvous - Bike Show MMA Fights
DESCRIPTION:Saturday\, September 8\, 2018\n10 a.m. to 5 p.m.\nwww.Renegadeevents.com
URL:https://dixonmayfair.com/event/13th-annual-renegade-rendezvous-bike-show-mma-fights/
ATTACH;FMTTYPE=image/jpeg:https://dixonmayfair.com/wp-content/uploads/2024/08/home_06-LCmTeI.tmp_.jpg
END:VEVENT
BEGIN:VEVENT
DTSTART;TZID=America/Los_Angeles:20180718T000000
DTEND;TZID=America/Los_Angeles:20180718T000000
DTSTAMP:20260421T185146
CREATED:20240823T155356Z
LAST-MODIFIED:20240823T155356Z
UID:1756-1531872000-1531872000@dixonmayfair.com
SUMMARY:AKC All Breeds Dog Show
DESCRIPTION:Richmond Dog Fanciers\nAKC All Breeds Dog Show\nSaturday\, August 6\, 2022\nSunday\, August 7\, 2022\n8:00 a.m. to 5 p.m.\nwww.facebook.com/Richmond-Dog-Fanciers-128756313809815
URL:https://dixonmayfair.com/event/akc-all-breeds-dog-show/
ATTACH;FMTTYPE=image/jpeg:https://dixonmayfair.com/wp-content/uploads/2024/08/Richmond-Dog-Fanciers-e1531932442271-xnzIQb.tmp_.jpg
END:VEVENT
BEGIN:VEVENT
DTSTART;VALUE=DATE:20180623
DTEND;VALUE=DATE:20180625
DTSTAMP:20260421T185146
CREATED:20180517T043224Z
LAST-MODIFIED:20180517T043224Z
UID:1226-1529712000-1529884799@dixonmayfair.com
SUMMARY:Classic Japanese Motorcycle Club Show and Swap Meet
DESCRIPTION:Saturday\, June 23rd  – 7:30 a.m. to 5 p.m. & Sunday\, June 24th – 7:30 a.m. to 4 p.m. \n 
URL:https://dixonmayfair.com/event/classic-japanese-motorcycle-club-show-and-swap-meet-2/
ATTACH;FMTTYPE=image/jpeg:https://dixonmayfair.com/wp-content/uploads/2018/05/Classic-Japenese-Motorcycle-Club-Logo-scaled.jpg
END:VEVENT
BEGIN:VEVENT
DTSTART;VALUE=DATE:20180615
DTEND;VALUE=DATE:20180617
DTSTAMP:20260421T185146
CREATED:20180517T043015Z
LAST-MODIFIED:20180517T043015Z
UID:1224-1529020800-1529193599@dixonmayfair.com
SUMMARY:Fort Sutter Chapter Antique Motorcycle Club of America Show and Swap Meet
DESCRIPTION:Friday\, June 15th – 7 a.m. to 6 p.m.  & Saturday\, June 16th – 7 a.m. to 5 p.m. \n 
URL:https://dixonmayfair.com/event/fort-sutter-chapter-antique-motorcycle-club-of-america-show-and-swap-meet-2/
ATTACH;FMTTYPE=image/png:https://dixonmayfair.com/wp-content/uploads/2018/05/Fort-Sutter-Chapter-National-Road-Run-2017.png
END:VEVENT
BEGIN:VEVENT
DTSTART;VALUE=DATE:20180601
DTEND;VALUE=DATE:20180604
DTSTAMP:20260421T185146
CREATED:20180517T042857Z
LAST-MODIFIED:20180517T042857Z
UID:1222-1527811200-1528070399@dixonmayfair.com
SUMMARY:Mt. Diablo Dog Training Club
DESCRIPTION:AKC All-Breed AGILITY TRIALS \nFriday\, Saturday & Sunday\, June 1-3\, 2018 \nTRIAL HOURS: 7:00 am—3:00 pm (Actual start times will be decided after closing) \n 
URL:https://dixonmayfair.com/event/mt-diablo-dog-training-club-2/
ATTACH;FMTTYPE=image/jpeg:https://dixonmayfair.com/wp-content/uploads/2018/05/Mt.-Diablo-2.jpg
END:VEVENT
BEGIN:VEVENT
DTSTART;VALUE=DATE:20180525
DTEND;VALUE=DATE:20180529
DTSTAMP:20260421T185146
CREATED:20180517T042602Z
LAST-MODIFIED:20180517T042602Z
UID:1220-1527206400-1527551999@dixonmayfair.com
SUMMARY:Two Rivers Agility Club of Sacramento (TRACS)
DESCRIPTION:AKC All Breed Licensed Agility Trials \nFriday May 25\, 2018 – Monday May 28\, 2017 \nTrial Hours: 7:00 am to 7:00 pm Judging is tentatively scheduled begin at 8:00 am\, HOWEVER\, in the event of forecast extreme heat\, ring start time may be moved earlier. Start time will be confirmed in the final judging schedule. \n 
URL:https://dixonmayfair.com/event/two-rivers-agility-club-of-sacramento-tracs-2/
ATTACH;FMTTYPE=image/gif:https://dixonmayfair.com/wp-content/uploads/2018/05/tracslogo1-1.gif
END:VEVENT
BEGIN:VEVENT
DTSTART;TZID=America/Los_Angeles:20180516T000000
DTEND;TZID=America/Los_Angeles:20180516T000000
DTSTAMP:20260421T185146
CREATED:20240823T155201Z
LAST-MODIFIED:20240823T155201Z
UID:1754-1526428800-1526428800@dixonmayfair.com
SUMMARY:Classic Japanese Motorcycle Club Show and Swap Meet
DESCRIPTION:Saturday\, June 23rd  – 7:30 a.m. to 5 p.m. & Sunday\, June 24th – 7:30 a.m. to 4 p.m. \n 
URL:https://dixonmayfair.com/event/classic-japanese-motorcycle-club-show-and-swap-meet/
ATTACH;FMTTYPE=image/jpeg:https://dixonmayfair.com/wp-content/uploads/2024/08/Classic-Japenese-Motorcycle-Club-Logo-S8WIRg.tmp_-scaled.jpg
END:VEVENT
BEGIN:VEVENT
DTSTART;TZID=America/Los_Angeles:20180516T000000
DTEND;TZID=America/Los_Angeles:20180516T000000
DTSTAMP:20260421T185146
CREATED:20240823T155200Z
LAST-MODIFIED:20240823T155200Z
UID:1753-1526428800-1526428800@dixonmayfair.com
SUMMARY:Fort Sutter Chapter Antique Motorcycle Club of America Show and Swap Meet
DESCRIPTION:Friday\, June 15th – 7 a.m. to 6 p.m.  & Saturday\, June 16th – 7 a.m. to 5 p.m. \n 
URL:https://dixonmayfair.com/event/fort-sutter-chapter-antique-motorcycle-club-of-america-show-and-swap-meet/
ATTACH;FMTTYPE=image/png:https://dixonmayfair.com/wp-content/uploads/2024/08/Fort-Sutter-Chapter-National-Road-Run-2017-lsxp2N.tmp_.png
END:VEVENT
BEGIN:VEVENT
DTSTART;TZID=America/Los_Angeles:20180516T000000
DTEND;TZID=America/Los_Angeles:20180516T000000
DTSTAMP:20260421T185146
CREATED:20240823T155158Z
LAST-MODIFIED:20240823T155158Z
UID:1750-1526428800-1526428800@dixonmayfair.com
SUMMARY:Mt. Diablo Dog Training Club
DESCRIPTION:AKC All-Breed AGILITY TRIALS \nFriday\, Saturday & Sunday\, June 1-3\, 2018 \nTRIAL HOURS: 7:00 am—3:00 pm (Actual start times will be decided after closing) \n 
URL:https://dixonmayfair.com/event/mt-diablo-dog-training-club/
ATTACH;FMTTYPE=image/jpeg:https://dixonmayfair.com/wp-content/uploads/2024/08/Mt.-Diablo-2-IifPQb.tmp_.jpg
END:VEVENT
END:VCALENDAR